Workbook

Sheet Factsheet
B3: 롯데제과 Fact Sheet | F3: %(%P)
B5: 1. 연결손익계산서 (K-IFRS)
B6: (단위 : 억원)
E8: 1Q19 | F8: 2Q19 | G8: 3Q19 | H8: 4Q19 | I8: 1Q20 | J8: 2Q20 | K8: 3Q20 | L8: 4Q20 | M8: 1Q21 | N8: 2Q21 | O8: 3Q21 | P8: 4Q21 | Q8: 1Q22 | R8: 2Q22 | S8: 3Q22 | T8: 4Q22
B9: 매출액 | E9: 8634.7529 | F9: 9528.4381 | G9: 9664.4928 | H9: 8773.5403 | I9: 8639.8526 | J9: 8862.3627 | K9: 9768.764 | L9: 8712.7142 | M9: 8793.1142 | N9: 9175.7018 | O9: 10169.334 | P9: 9393.9449 | Q9: 9191.5225 | R9: 10563.792 | S9: =[1]요약연결재무제표!$E$6 -> 11032.511 | T9: ='[2]Appendix_요약 재무제표(공시)'!$E$6 -> 10264.205
B10: 매출총이익 | E10: 2293.3759 | F10: 2688.0312 | G10: 2722.9369 | H10: 2258.3435 | I10: 2313.9387 | J10: 2501.9235 | K10: 2880.4943 | L10: 2349.1348 | M10: 2429.6545 | N10: 2555.7558 | O10: 2913.7251 | P10: 2388.7107 | Q10: 2238.8192 | R10: 2803.0921 | S10: =[1]요약연결재무제표!$E$7 -> 3034.98 | T10: ='[2]Appendix_요약 재무제표(공시)'!$E$7 -> 2580.1083
B11: 판관비 (대손상각비 포함) | E11: 2062.7611 | F11: 2229.3157 | G11: 2125.2586 | H11: 2101.353 | I11: 2038.4395 | J11: 2097.7139 | K11: 2189.4706 | L11: 2149.0379 | M11: 2077.552 | N11: 2117.9885 | O11: 2291.7485 | P11: 2331.265 | Q11: 2104.5467 | R11: 2342.101 | S11: =[1]요약연결재무제표!$E$8 -> 2462.728 | T11: ='[2]Appendix_요약 재무제표(공시)'!$E$8 -> 2385.9647
B12: 영업이익 | E12: 230.6148 | F12: 458.71552 | G12: 597.67838 | H12: 156.99046 | I12: 275.49921 | J12: 404.20962 | K12: 691.02364 | L12: 200.09686 | M12: 352.10255 | N12: 437.73691 | O12: 621.97662 | P12: 57.445743 | Q12: 134.27252 | R12: 460.89352 | S12: =[1]요약연결재무제표!$E$9 -> 572.25204 | T12: ='[2]Appendix_요약 재무제표(공시)'!$E$9 -> 194.14365
B13: 경상이익 | E13: 208.92952 | F13: 402.14511 | G13: 567.57743 | H13: -181.50727 | I13: 91.140994 | J13: 992.45679 | K13: 526.64676 | L13: -85.238295 | M13: 288.3219 | N13: 390.14279 | O13: 554.91755 | P13: -614.42669 | Q13: 2.5371027 | R13: 558.8185 | S13: =[1]요약연결재무제표!$E$10 -> 440.21506 | T13: ='[2]Appendix_요약 재무제표(공시)'!$E$10 -> -281.89086
B14: 당기순이익 | E14: 162.00626 | F14: 297.14183 | G14: 423.9321 | H14: -91.565731 | I14: 69.628972 | J14: 735.60332 | K14: 380.74339 | L14: -66.425372 | M14: 224.30472 | N14: 288.26634 | O14: 422.06391 | P14: -581.61689 | Q14: -6.1493721 | R14: 411.81512 | S14: =[1]요약연결재무제표!$E$11 -> 353.86822 | T14: ='[2]Appendix_요약 재무제표(공시)'!$E$11 -> -183.29992
B16: 참고1. 2Q22 실적까지는 합병 전 롯데제과와 롯데푸드의 연결실적을 단순 합산한 기준입니다. (롯데푸드 식육사업 제거 기준)
B18: 2. 사업부문별 매출
B19: (단위 : 억원)
E21: 1Q19 | F21: 2Q19 | G21: 3Q19 | H21: 4Q19 | I21: 1Q20 | J21: 2Q20 | K21: 3Q20 | L21: 4Q20 | M21: 1Q21 | N21: 2Q21 | O21: 3Q21 | P21: 4Q21 | Q21: 1Q22 | R21: 2Q22 | S21: 3Q22 | T21: 4Q22
B22: 매출액 | E22: =E23+E27+E37 -> 8550.658 | F22: =F23+F27+F37 -> 9438.4728 | G22: =G23+G27+G37 -> 9622.934 | H22: =H23+H27+H37 -> 8702.6179 | I22: =I23+I27+I37 -> 8579.0213 | J22: =J23+J27+J37 -> 8803.3082 | K22: =K23+K27+K37 -> 9699.194 | L22: =L23+L27+L37 -> 8679.2702 | ... T22: =T23+T27+T37 -> 10342.849
B23: 제과 사업 부문 | E23: ='[3]2019년'!$H$16+[1]인재개발원!$C$3 -> 3951.9718 | F23: ='[3]2019년'!$L$16+[1]인재개발원!$D$3 -> 4618.405 | G23: ='[3]2019년'!$P$16+[1]인재개발원!$F$3 -> 4709.2327 | H23: ='[3]2019년'!$T$16+[1]인재개발원!$H$3 -> 3767.1587 | I23: ='[3]2020년'!$H$16+[1]인재개발원!$C$6 -> 3962.4605 | J23: ='[3]2020년'!$L$16+[1]인재개발원!$D$6 -> 4518.2529 | K23: ='[3]2020년'!$P$16+[1]인재개발원!$F$6 -> 4821.3621 | L23: ='[3]2020년'!$T$16+[1]인재개발원!$H$6 -> 3905.2551 | M23: ='[3]2021년'!$H$16+[1]인재개발원!$C$9 -> 4072.2299 | N23: ='[3]2021년'!$L$16+[1]인재개발원!$D$9 -> 4469.1082 | O23: ='[3]2021년'!$P$16+[1]인재개발원!$F$9 -> 4952.601 | P23: 4022.2426 | Q23: ='[3]2022년'!$H$16 -> 3922 | R23: ='[3]2022년'!$L$16 -> 4405 | S23: 5051.1531 | T23: 4265.9827
C24: 건과 | E24: 2667 | F24: 2451 | G24: 2436 | H24: 2637 | I24: 2650 | J24: 2333 | K24: 2489 | L24: 2606 | M24: 2523 | N24: 2258 | O24: 2391.7959 | P24: 2585.8645 | Q24: 2392 | R24: 2251 | S24: 2529.0617 | T24: 2910.6794
C25: 빙과 | E25: 851 | F25: 1701 | G25: 1845 | H25: 719 | I25: 908 | J25: 1773 | K25: 1901 | L25: 859 | M25: 1084 | N25: 1755 | O25: 2087.9331 | P25: 929.13815 | Q25: 1139 | R25: 1758 | S25: 2085.0808 | T25: 922.20623
C26: Bakery | E26: 305 | F26: 293 | G26: 245 | H26: 286 | I26: 250 | J26: 230 | K26: 231 | L26: 271 | M26: 265 | N26: 269 | O26: 283.4899 | P26: 324 | Q26: 280 | R26: 308 | S26: 332.04504 | T26: 368.23387
B27: 해외 사업 부문 | E27: =SUM(E28:E36) -> 1328.6862 | F27: =SUM(F28:F36) -> 1516.0677 | G27: =SUM(G28:G36) -> 1462.7013 | H27: =SUM(H28:H36) -> 1692.4592 | I27: =SUM(I28:I36) -> 1447.5609 | J27: =SUM(J28:J36) -> 1180.0553 | K27: =SUM(K28:K36) -> 1508.8319 | L27: =SUM(L28:L36) -> 1689.0151 | ... T27: =SUM(T28:T36) -> 2270.7488
C28: 카자흐스탄 | E28: 431.74792 | F28: 443.95294 | G28: 467.50811 | H28: 584.30682 | I28: 448.36582 | J28: 376.83926 | K28: 435.39477 | L28: 523.02659 | M28: 388.94745 | N28: 379.99801 | O28: 436.80948 | P28: 547.86224 | Q28: 423.18753 | R28: 504.91479 | S28: 592.46132 | T28: 817.21089
C29: 파키스탄 | E29: 224.82207 | F29: 232.3636 | G29: 229.02861 | H29: 232.65052 | I29: 200.25802 | J29: 234.69123 | K29: 218.3153 | L29: 213.60874 | M29: 196.86409 | N29: 231.19513 | O29: 215.54329 | P29: 211.32207 | Q29: 200.94915 | R29: 215.86387 | S29: 218.91483 | T29: 201.42608
C30: 벨기에 | E30: 224.21294 | F30: 183.73557 | G30: 266.35454 | H30: 379.335 | I30: 221.33463 | J30: 101.44571 | K30: 225.29584 | L30: 348.00515 | M30: 213.37621 | N30: 146.21429 | O30: 255.21728 | P30: 378.09991 | Q30: 206.48856 | R30: 132.9696 | S30: 260.27042 | T30: 309.65786
C31: 인도 건과 | E31: 0 | F31: 0 | G31: 0 | H31: 0 | I31: 144.02048 | J31: 109.43251 | K31: 165.90536 | L31: 162.5481 | M31: 167.55119 | N31: 108.51858 | O31: 197.92857 | P31: 194.32766 | Q31: 209.92184 | R31: 198.12935 | S31: 270.13053 | T31: 250.46281
C32: 인도 빙과 | E32: 204.4093 | F32: 404.73044 | G32: 218.937 | H32: 192.21931 | I32: 166.19942 | J32: 117.0624 | K32: 167.60041 | L32: 136.57056 | M32: 248.81826 | N32: 240.06209 | O32: 286.93044 | P32: 218.4639 | Q32: 311.35922 | R32: 601.81564 | S32: 355.63013 | T32: 274.72642
C33: 중국 | E33: 36.660651 | F33: 35.922147 | G33: 35.564006 | H33: 47.09703 | I33: 34.926493 | J33: 46.513069 | K33: 48.606602 | L33: 55.090607 | M33: 53.710914 | N33: 59.405361 | O33: 53.708962 | P33: 63.420035 | Q33: 41.812138 | R33: 40.983862 | S33: 39.096221 | T33: 39.548042
C34: 러시아 | E34: 112.45627 | F34: 113.04559 | G34: 137.79513 | H34: 150.75381 | I34: 133.33108 | J34: 108.4474 | K34: 145.16203 | L34: 134.46595 | M34: 115.2875 | N34: 108.13914 | O34: 142.78278 | P34: 159.1664 | Q34: 121.85107 | R34: 190.09341 | S34: 231.73764 | T34: 262.01898
C35: 싱가폴 | E35: 29.114422 | F35: 27.622416 | G35: 28.234003 | H35: 23.064509 | I35: 25.826939 | J35: 14.6109 | K35: 28.587975 | L35: 33.895201 | M35: 30.671089 | N35: 28.303909 | O35: 27.020031 | P35: 29.580654 | Q35: 24.658121 | R35: 27.278794 | S35: 29.121174 | T35: 32.31209
C36: 미얀마 | E36: 65.262612 | F36: 74.695033 | G36: 79.279929 | H36: 83.032189 | I36: 73.29797 | J36: 71.012783 | K36: 73.96359 | L36: 81.804217 | M36: 58.688703 | N36: 77.770405 | O36: 80.833597 | P36: 85.834487 | Q36: 66.586808 | R36: 76.615343 | S36: 88.249822 | T36: 83.385628
B37: 푸드 사업 부문 | E37: ='[3]2019년'!$H$10 -> 3270 | F37: ='[3]2019년'!$L$10 -> 3304 | G37: ='[3]2019년'!$P$10 -> 3451 | H37: ='[3]2019년'!$T$10 -> 3243 | I37: ='[3]2020년'!$H$10 -> 3169 | J37: ='[3]2020년'!$L$10 -> 3105 | K37: ='[3]2020년'!$P$10 -> 3369 | L37: ='[3]2020년'!$T$10 -> 3085 | M37: ='[3]2021년'!$H$10 -> 3210 | N37: ='[3]2021년'!$L$10 -> 3301 | O37: ='[3]2021년'!$P$10 -> 3459 | P37: 3450.603 | Q37: ='[3]2022년'!$H$10 -> 3600 | R37: ='[3]2022년'!$L$10 -> 4068 | S37: 4031.2806 | T37: 3806.1178
C38: B2B | E38: =E39+E40 -> 1603 | F38: =F39+F40 -> 1672 | G38: =G39+G40 -> 1652 | H38: =H39+H40 -> 1644 | I38: =I39+I40 -> 1508 | J38: =J39+J40 -> 1514 | K38: =K39+K40 -> 1546 | L38: =L39+L40 -> 1512 | ... T38: =T39+T40 -> 1993.6249
D39: 유지 | E39: 945 | F39: 934 | G39: 912 | H39: 932 | I39: 898 | J39: 898 | K39: 925 | L39: 953 | M39: 954 | N39: 1058 | O39: 1053.8618 | P39: 1179.9344 | Q39: 1248 | R39: 1598 | S39: 1343.6941 | T39: 1284.9623
D40: 식품 外 | E40: 658 | F40: 738 | G40: 740 | H40: 712 | I40: 610 | J40: 616 | K40: 621 | L40: 559 | M40: 564 | N40: 619 | O40: 619.55747 | P40: 627.90976 | Q40: 603 | R40: 711 | S40: 728.08769 | T40: 708.66259
C41: B2C | E41: =E42+E43+E44 -> 1647 | F41: =F42+F43+F44 -> 1612 | G41: =G42+G43+G44 -> 1779 | H41: =H42+H43+H44 -> 1578 | I41: =I42+I43+I44 -> 1640 | J41: =J42+J43+J44 -> 1572 | K41: =K42+K43+K44 -> 1800 | L41: =L42+L43+L44 -> 1556 | ... T41: =T42+T43+T44 -> 1792.7453
D42: 유가공 | E42: 516 | F42: 524 | G42: 541 | H42: 483 | I42: 509 | J42: 484 | K42: 489 | L42: 460 | M42: 480 | N42: 495 | O42: 468.94798 | P42: 454.48156 | Q42: 472 | R42: 468 | S42: 444.29291 | T42: 458.68836
D43: 육가공 | E43: 677 | F43: 617 | G43: 763 | H43: 606 | I43: 678 | J43: 600 | K43: 774 | L43: 543 | M43: 675 | N43: 577 | O43: 720.45446 | P43: 586.48465 | Q43: 684 | R43: 620 | S43: 789.99651 | T43: 655.45528
D44: HMR | E44: 454 | F44: 471 | G44: 475 | H44: 489 | I44: 453 | J44: 488 | K44: 537 | L44: 553 | M44: 518 | N44: 534 | O44: 577.60859 | P44: 576.51541 | Q44: 575 | R44: 647 | S44: 706.91636 | T44: 678.60161
B46: 참고1. 사업부문의 실적 합계와 전체 연결기준 실적과는 차이가 있음 (자회사간 내부거래 제외)
